BEGIN:VCALENDAR
VERSION:2.0
PRODID:-//杏リウマチクリニック - ECPv6.15.20//NONSGML v1.0//EN
CALSCALE:GREGORIAN
METHOD:PUBLISH
X-WR-CALNAME:杏リウマチクリニック
X-ORIGINAL-URL:https://anne-ra-clinic.jp
X-WR-CALDESC:杏リウマチクリニック のイベント
REFRESH-INTERVAL;VALUE=DURATION:PT1H
X-Robots-Tag:noindex
X-PUBLISHED-TTL:PT1H
BEGIN:VTIMEZONE
TZID:Asia/Tokyo
BEGIN:STANDARD
TZOFFSETFROM:+0900
TZOFFSETTO:+0900
TZNAME:JST
DTSTART:20250101T000000
END:STANDARD
END:VTIMEZONE
BEGIN:VEVENT
DTSTART;TZID=Asia/Tokyo:20260606T090000
DTEND;TZID=Asia/Tokyo:20260606T120000
DTSTAMP:20260425T064902
CREATED:20260407T134937Z
LAST-MODIFIED:20260407T134937Z
UID:1428-1780736400-1780747200@anne-ra-clinic.jp
SUMMARY:小児股関節外来診療日
DESCRIPTION:
URL:https://anne-ra-clinic.jp/event/%e5%b0%8f%e5%85%90%e8%82%a1%e9%96%a2%e7%af%80%e5%a4%96%e6%9d%a5%e8%a8%ba%e7%99%82%e6%97%a5606/
CATEGORIES:小児股関節外来
END:VEVENT
BEGIN:VEVENT
DTSTART;TZID=Asia/Tokyo:20260627T090000
DTEND;TZID=Asia/Tokyo:20260627T120000
DTSTAMP:20260425T064902
CREATED:20260407T135010Z
LAST-MODIFIED:20260407T135010Z
UID:1430-1782550800-1782561600@anne-ra-clinic.jp
SUMMARY:小児股関節外来診療日
DESCRIPTION:
URL:https://anne-ra-clinic.jp/event/%e5%b0%8f%e5%85%90%e8%82%a1%e9%96%a2%e7%af%80%e5%a4%96%e6%9d%a5%e8%a8%ba%e7%99%82%e6%97%a5627/
CATEGORIES:小児股関節外来
END:VEVENT
END:VCALENDAR